BEGIN:VCALENDAR
VERSION:2.0
PRODID:-//ChamberMaster//Event Calendar 2.0//EN
METHOD:PUBLISH
X-PUBLISHED-TTL:P3D
REFRESH-INTERVAL:P3D
CALSCALE:GREGORIAN
BEGIN:VEVENT
DTSTART:20170105T223000Z
DTEND:20170106T003000Z
X-MICROSOFT-CDO-ALLDAYEVENT:FALSE
SUMMARY:2017 January Business After Hours @ Mediterranean Cruise Cafe
DESCRIPTION:Please join us for the first 2017 Business After Hours at
X-ALT-DESC;FMTTYPE=text/html:Please join us for the first 2017 Business After Hours at&nbsp\;
LOCATION:Mediterranean Cruise Cafe 12500 Nicollet Ave. Burnsville\, MN 55337
UID:e.411.667126
SEQUENCE:3
DTSTAMP:20260423T042820Z
URL:http://dev.setupsite.burnsvillechamber.com/events/details/2017-january-business-after-hours-mediterranean-cruise-cafe-667126
END:VEVENT

END:VCALENDAR
