BEGIN:VCALENDAR
VERSION:2.0
PRODID:-//ChamberMaster//Event Calendar 2.0//EN
METHOD:PUBLISH
X-PUBLISHED-TTL:P3D
REFRESH-INTERVAL:P3D
CALSCALE:GREGORIAN
BEGIN:VEVENT
DTSTART:20170314T163000Z
DTEND:20170314T180000Z
X-MICROSOFT-CDO-ALLDAYEVENT:FALSE
SUMMARY:2017 March Women Empowered Luncheon
DESCRIPTION:Have you every been curious on how some women pick their profession?  Have you ever wondered how some \n\nwomen made it to the top?  \n\n \n\nHere's the opportunity to listen to the Dakota County Exceptional Women speak on their professional careers.  The panel will share their experiences with questions designed by the Women Empowered committee.  \n\n\n\nLet's break that glass ceiling!\n\n\nIntroducing our 5 panelists:\n\n\n\nLaurie Bolin / 360 Communities \n\n\n\nAmie Burrill / CVB - Experience Burnsville\n\n\n\nJackie Fritz / KleinBank\n\n\n\nMaggie Linville Smith / Linvill Properties \n\n\n\nCheryl Morton / Sterling State Bank
X-ALT-DESC;FMTTYPE=text/html:&nbsp\;\n<div _mce_style="text-align: center\; font-size: 12pt\;" align="center" style="color: rgb(107\, 107\, 107)\; font-family: Arial\, Helvetica\, sans-serif\; text-align: center\; font-size: 12pt\;">Have you every been curious on how some women pick their profession? &nbsp\;Have you ever wondered how some&nbsp\;</div>\n\n<div _mce_style="text-align: center\; font-size: 12pt\;" align="center" style="color: rgb(107\, 107\, 107)\; font-family: Arial\, Helvetica\, sans-serif\; text-align: center\; font-size: 12pt\;">women made it to the top? &nbsp\;<br />\n&nbsp\;</div>\n\n<div _mce_style="text-align: center\;" align="center" style="color: rgb(107\, 107\, 107)\; font-family: Arial\, Helvetica\, sans-serif\; font-size: 13.3333px\; text-align: center\;"><span _mce_style="font-size: 12pt\;" style="font-size: 12pt\;">Here&#39\;s the opportunity to listen to the Dakota County Exceptional Women speak on their professional careers. &nbsp\;The panel will share their experiences&nbsp\;with questions designed by the Women Empowered committee. &nbsp\;</span><br />\n<br />\n<span _mce_style="font-size: 12pt\;" style="font-size: 12pt\;"><strong>Let&#39\;s break that glass ceiling!</strong></span></div>\n<br />\nIntroducing our 5 panelists:<br />\n<br />\nLaurie Bolin / 360 Communities&nbsp\;<br />\n<br />\nAmie Burrill / CVB - Experience Burnsville<br />\n<br />\nJackie Fritz / KleinBank<br />\n<br />\nMaggie Linville Smith / Linvill Properties&nbsp\;<br />\n<br />\nCheryl Morton / Sterling State Bank
LOCATION:Buck Hill Events Center 15400 Buck Hill Rd Burnsville\, MN 55306
UID:e.411.667173
SEQUENCE:3
DTSTAMP:20260423T004452Z
URL:http://dev.setupsite.burnsvillechamber.com/events/details/2017-march-women-empowered-luncheon-667173
END:VEVENT

END:VCALENDAR
