BEGIN:VCALENDAR
VERSION:2.0
PRODID:-//ChamberMaster//Event Calendar 2.0//EN
METHOD:PUBLISH
X-PUBLISHED-TTL:P3D
REFRESH-INTERVAL:P3D
CALSCALE:GREGORIAN
BEGIN:VEVENT
DTSTART:20170406T213000Z
DTEND:20170406T233000Z
X-MICROSOFT-CDO-ALLDAYEVENT:FALSE
SUMMARY:2017 MULTI CHAMBER Business After Hours Legends Golf Club
DESCRIPTION:MULTI-CHAMBER EVENT\n\n\n\nWant to expand your network a little bit further?  Join Burnsville\, Lakeville and Prior Lake Chambers for the Annual Business After Hours at Legends Golf Club.
X-ALT-DESC;FMTTYPE=text/html:MULTI-CHAMBER EVENT<br />\n<br />\nWant to expand your network a little bit further? &nbsp\;Join Burnsville\, Lakeville and Prior Lake Chambers for the Annual Business After Hours at Legends Golf Club.
LOCATION:Legends Golf Club 8670 Credit River Blvd. Prior Lake\, MN 55372
UID:e.411.667130
SEQUENCE:3
DTSTAMP:20260423T004519Z
URL:http://dev.setupsite.burnsvillechamber.com/events/details/2017-multi-chamber-business-after-hours-legends-golf-club-667130
END:VEVENT

END:VCALENDAR
