BEGIN:VCALENDAR
VERSION:2.0
PRODID:-//ChamberMaster//Event Calendar 2.0//EN
METHOD:PUBLISH
X-PUBLISHED-TTL:P3D
REFRESH-INTERVAL:P3D
CALSCALE:GREGORIAN
BEGIN:VEVENT
DTSTART:20180924T223000Z
DTEND:20180925T000000Z
X-MICROSOFT-CDO-ALLDAYEVENT:FALSE
SUMMARY:2018 Burnsville Chamber District 191 School Board Candidate Forum
DESCRIPTION:Candidates for the Burnsville-Eagan-Savage School District 191 Board of Education have been invited to participate in a forum\, sponsored by the Burnsville Chamber. At the forum\, candidates will introduce themselves and answer questions from the audience.\n\n \n\nThe five candidates for four four-year terms on the Board of Education are Abigail Alt\, Lesley Chester\, Jen Holweger\, Scott Hume and Jim Schmid. All five will be on the ballot Election Day\, Tuesday\, Nov. 6.\n\n \n\n"We are pleased to help provide this opportunity for voters to become informed on this important race\," said Chamber President Jennifer Harmening. "I encourage people to attend the forum or watch it on TV or on the district's website."  \n\n \n\nThe forum will be recorded and available for viewing on the district's website at www.isd191.org/election and also on the district's educational Channel 18.
X-ALT-DESC;FMTTYPE=text/html:<span style="font-family:arial\,sans-serif\;"><span style="font-size:10.0pt\;">Candidates for the Burnsville-Eagan-Savage School District 191 Board of Education have been invited to participate in a forum\, sponsored by the Burnsville Chamber.&nbsp\;</span></span><span style="font-family:arial\,sans-serif\;"><span style="font-size:10.0pt\;">At the forum\, candidates will introduce themselves and answer questions from the audience.</span></span><br />\n&nbsp\;<br />\n<span style="font-family:arial\,sans-serif\;"><span style="font-size:10.0pt\;">The five candidates for four four-year terms on the Board of Education are Abigail Alt\, Lesley Chester\, Jen Holweger\, Scott Hume and Jim Schmid. All five will be on the ballot Election Day\, Tuesday\, Nov. 6.</span></span><br />\n&nbsp\;<br />\n<span style="font-family:arial\,sans-serif\;"><span style="font-size:10.0pt\;">&ldquo\;We are pleased to help provide this opportunity for voters to become informed on this important race\,&rdquo\; said Chamber President Jennifer Harmening. &ldquo\;I encourage people to attend the forum or watch it on TV or on the district&rsquo\;s website.&rdquo\;&nbsp\; </span></span><br />\n&nbsp\;<br />\n<span style="font-family:arial\,sans-serif\;"><span style="font-size:10.0pt\;">The forum will be recorded and available for viewing on the district&#39\;s website at www.isd191.org/election and also on the district&rsquo\;s educational Channel 18. </span></span>
LOCATION:Diamondhead Education Center Burnsville Room\, Upper Level 200 West Burnsville Parkway Burnsville\, MN 55337
UID:e.411.668527
SEQUENCE:3
DTSTAMP:20260421T210320Z
URL:http://dev.setupsite.burnsvillechamber.com/events/details/2018-burnsville-chamber-district-191-school-board-candidate-forum-668527
END:VEVENT

END:VCALENDAR
