BEGIN:VCALENDAR
VERSION:2.0
PRODID:-//ChamberMaster//Event Calendar 2.0//EN
METHOD:PUBLISH
X-PUBLISHED-TTL:P3D
REFRESH-INTERVAL:P3D
CALSCALE:GREGORIAN
BEGIN:VEVENT
DTSTART:20180306T160000Z
DTEND:20180306T170000Z
X-MICROSOFT-CDO-ALLDAYEVENT:FALSE
SUMMARY:2018 March Ribbon Cutting - Signarama
DESCRIPTION:The ABCs of effective Signage:  Attract\, Brand\, Create\n\n \n\nEveryone knows signage is an important part of a business's overall sales and marketing plan\, and that is because of the ABCs of effective Signage:  Attracting new customers.  Branding your business.  Create an environment for impulse sales.  Partnering with the right sign company to create your premise signage is the key to effective signage and\, consequently\, your business's success.  Working with Signarama to help you establish your signage products and branding goals can help you attract more customers\, brand your business\, create an environment for impulse sales and\, most importantly\, drive your revenue.
X-ALT-DESC;FMTTYPE=text/html:The ABCs of effective Signage:&nbsp\; Attract\, Brand\, Create<br />\n&nbsp\;<br />\nEveryone knows signage is an important part of a business&rsquo\;s overall sales and marketing plan\, and that is because of the ABCs of effective Signage:&nbsp\; <strong><u>A</u></strong>ttracting new customers.&nbsp\; <strong><u>B</u></strong>randing your business.&nbsp\; <strong><u>C</u></strong>reate an environment for impulse sales.&nbsp\; Partnering with the right sign company to create your premise signage is the key to effective signage and\, consequently\, your business&rsquo\;s success.&nbsp\; Working with Signarama to help you establish your signage products and branding goals can help you attract more customers\, brand your business\, create an environment for impulse sales and\, most importantly\, drive your revenue.<br />\n<br />\n<br />\n&nbsp\;
LOCATION:Signarama 13957 Grand Ave. South Burnsville\, MN 55337
UID:e.411.667373
SEQUENCE:3
DTSTAMP:20260422T050403Z
URL:http://dev.setupsite.burnsvillechamber.com/events/details/2018-march-ribbon-cutting-signarama-667373
END:VEVENT

END:VCALENDAR
