BEGIN:VCALENDAR
VERSION:2.0
PRODID:-//ChamberMaster//Event Calendar 2.0//EN
METHOD:PUBLISH
X-PUBLISHED-TTL:P3D
REFRESH-INTERVAL:P3D
CALSCALE:GREGORIAN
BEGIN:VEVENT
DTSTART:20191205T223000Z
DTEND:20191206T013000Z
X-MICROSOFT-CDO-ALLDAYEVENT:FALSE
SUMMARY:2019 Burnsville Chamber Holiday Social
DESCRIPTION:Celebrate the season with Chamber Member friends and staff. Complimentary appetizers\, live entertainment\, cash bar\, and holiday cheer included! Come as you are\; feel free to wear your holiday sparkle or flare.
X-ALT-DESC;FMTTYPE=text/html:Celebrate the season with Chamber Member friends and staff. Complimentary appetizers\, live entertainment\, cash bar\, and holiday cheer included! Come as you are\; feel free to wear your holiday sparkle or flare.
LOCATION:The Pub at Crystal Lake Golf Club 16725 Innsbrook Drive Lakeville\, MN 55044
UID:e.411.668636
SEQUENCE:3
DTSTAMP:20260420T141739Z
URL:http://dev.setupsite.burnsvillechamber.com/events/details/2019-burnsville-chamber-holiday-social-668636
END:VEVENT

END:VCALENDAR
