BEGIN:VCALENDAR
VERSION:2.0
PRODID:-//ChamberMaster//Event Calendar 2.0//EN
METHOD:PUBLISH
X-PUBLISHED-TTL:P3D
REFRESH-INTERVAL:P3D
CALSCALE:GREGORIAN
BEGIN:VEVENT
DTSTART:20191211T140000Z
DTEND:20191211T160000Z
X-MICROSOFT-CDO-ALLDAYEVENT:FALSE
SUMMARY:2019 December AM Coffee Break Burnsville Center Near Macy's
DESCRIPTION:Burnsville Chamber Holiday AM Coffee Break
X-ALT-DESC;FMTTYPE=text/html:Burnsville Chamber Holiday AM Coffee Break
LOCATION:Burnsville Center Near Macy's Park at entrance 1 near Chuck E Cheese Walk into a winter wonderland by the Santa Set
UID:e.411.668638
SEQUENCE:3
DTSTAMP:20260420T141739Z
URL:http://dev.setupsite.burnsvillechamber.com/events/details/2019-december-am-coffee-break-burnsville-center-near-macy-s-668638
END:VEVENT

END:VCALENDAR
