BEGIN:VCALENDAR
VERSION:2.0
PRODID:-//ChamberMaster//Event Calendar 2.0//EN
METHOD:PUBLISH
X-PUBLISHED-TTL:P3D
REFRESH-INTERVAL:P3D
CALSCALE:GREGORIAN
BEGIN:VEVENT
DTSTART:20191107T140000Z
DTEND:20191107T150000Z
X-MICROSOFT-CDO-ALLDAYEVENT:FALSE
SUMMARY:2019 November AM Coffee Break - Olivia's Organic Cafe
DESCRIPTION:AM Coffee Break - Olivia's Organic Cafe\n\n\n\nOlivia's Organic Cafe is an organic scratch kitchen serving 100% gluten and dairy free brunch menu the whole family will enjoy.\n\n\n\nCome join us for some coffee and check out this great new cafe.
X-ALT-DESC;FMTTYPE=text/html:AM Coffee Break - Olivia&#39\;s Organic Cafe<br />\n<br />\nOlivia&#39\;s Organic Cafe is an organic scratch kitchen serving 100% gluten and dairy free brunch menu the whole family will enjoy.<br />\n<br />\nCome join us for some coffee and check out this great new cafe.
LOCATION:Olivia's Organic Cafe 11849 Millpond Avenue Burnsville\, MN 55337
UID:e.411.668635
SEQUENCE:3
DTSTAMP:20260420T164727Z
URL:http://dev.setupsite.burnsvillechamber.com/events/details/2019-november-am-coffee-break-olivia-s-organic-cafe-668635
END:VEVENT

END:VCALENDAR
