BEGIN:VCALENDAR
VERSION:2.0
PRODID:-//ChamberMaster//Event Calendar 2.0//EN
METHOD:PUBLISH
X-PUBLISHED-TTL:P3D
REFRESH-INTERVAL:P3D
CALSCALE:GREGORIAN
BEGIN:VEVENT
DTSTART:20191119T171500Z
DTEND:20191119T190000Z
X-MICROSOFT-CDO-ALLDAYEVENT:FALSE
SUMMARY:2019 November Women Empowered Holiday Luncheon
DESCRIPTION:Network with fellow business women while discussing our theme topic. This month's topic:\n\n \n\nExceptional Wellness During the Holidays\n\nPresenter: Annie Meehan\, Exceptional Life Expert\n\n\n\nTreat yourself\, employees and clients to a special holiday lunch! Discover 5 key lifestyle elements that contribute toward your overall health and well-being - especially through this busy season.
X-ALT-DESC;FMTTYPE=text/html:<div style="text-align: center\;"><span style="font-family:verdana\;"><span style="font-size: 15px\;"><em>Network with fellow business women while discussing our theme topic. This month&#39\;s topic:</em></span></span></div>\n\n<div style="text-align: center\;">&nbsp\;</div>\n\n<div style="text-align: center\;"><span style="font-family:verdana\;"><span style="font-size: 15px\;"><b>Exceptional Wellness During the Holidays</b><br />\nPresenter: Annie Meehan\, Exceptional Life Expert</span></span><br />\n<br />\nTreat yourself\, employees and clients to a special holiday lunch! Discover 5 key lifestyle elements that contribute toward your overall health and well-being - especially through this busy season.</div>\n<br />\n&nbsp\;
LOCATION:Best Western Premier Nicollet Inn
UID:e.411.668578
SEQUENCE:3
DTSTAMP:20260420T164819Z
URL:http://dev.setupsite.burnsvillechamber.com/events/details/2019-november-women-empowered-holiday-luncheon-668578
END:VEVENT

END:VCALENDAR
