BEGIN:VCALENDAR
VERSION:2.0
PRODID:-//ChamberMaster//Event Calendar 2.0//EN
METHOD:PUBLISH
X-PUBLISHED-TTL:P3D
REFRESH-INTERVAL:P3D
CALSCALE:GREGORIAN
BEGIN:VEVENT
DTSTART:20190213T210000Z
DTEND:20190213T223000Z
X-MICROSOFT-CDO-ALLDAYEVENT:FALSE
SUMMARY:2019 State of the City Address
DESCRIPTION:Burnsville residents\, business leaders and others interested in learning more about the current state of affairs and future of Burnsville are invited to the community's annual State of the City Address. The event will include performances by Burnsville High School students and keynote speech will be given by Burnsville Mayor Elizabeth Kautz.\n\n\n\nComplimentary appetizers and cash bar to follow.
X-ALT-DESC;FMTTYPE=text/html:<p><span style="font-family:tahoma\;">Burnsville residents\, business leaders and others interested in learning more about the current state of affairs and future of Burnsville are invited to the community&rsquo\;s annual State of the City Address. The event will include performances by Burnsville High School students and keynote speech will be given by Burnsville Mayor Elizabeth Kautz.<br />\n<br />\nComplimentary appetizers and cash bar to follow.</span></p>\n
LOCATION:Ames Center 12600 Nicollet Avenue Burnsville\, MN 55337
UID:e.411.668562
SEQUENCE:3
DTSTAMP:20260421T105742Z
URL:http://dev.setupsite.burnsvillechamber.com/events/details/2019-state-of-the-city-address-668562
END:VEVENT

END:VCALENDAR
