BEGIN:VCALENDAR
VERSION:2.0
PRODID:-//ChamberMaster//Event Calendar 2.0//EN
METHOD:PUBLISH
X-PUBLISHED-TTL:P3D
REFRESH-INTERVAL:P3D
CALSCALE:GREGORIAN
BEGIN:VEVENT
DTSTART:20200227T190000Z
DTEND:20200227T233000Z
X-MICROSOFT-CDO-ALLDAYEVENT:FALSE
SUMMARY:2020 Chamber Day at the Capitol
DESCRIPTION:2020 Chamber Day at the Capitol\n\nThursday\, February 27\, 2020\n\n\n	\n		\n			Tell legislators what's important to your business!\n		\n	\n\n\n \n\n\n	\n		\n			Make your voice heard! Each year\, real business people like you   who create jobs and economic prosperity across Minnesota   descend on St. Paul to rally for pro-growth economic policies in Minnesota. This is your opportunity to stand up for freedom of opportunity and choice for your business and your industry. Join the Minnesota Chamber and your chamber on February 27 for Chamber Day at the Capitol. Don't miss your chance to meet with legislators from your area and share your business story and the importance of supporting business opportunities over mandates.\n\n			 \n\n			DATE AND TIME\n\n			Thursday\, February 27\, 1:00-5:30 p.m.\n\n			  \n\n			PRICING\n\n			Thanks to our generous sponsor\, the first 12 Chamber members can attend this event for FREE.  We also have complimentary transportation from the Chamber office to the Capitol and back!
X-ALT-DESC;FMTTYPE=text/html:<div>&nbsp\;</div>\n\n<div><span style="font-size:12px\;"><span style="font-family:arial\;"><strong>2020&nbsp\;Chamber&nbsp\;Day&nbsp\;at the Capitol<br />\nThursday\, February 27\, 2020</strong></span></span></div>\n\n<table border="0" cellpadding="0" cellspacing="0" style="width:100.0%\;border-collapse:collapse\;" width="100%">\n	<tbody>\n		<tr>\n			<td style="padding:7.5pt 15.0pt 7.5pt 15.0pt\;vertical-align:top\;"><span style="font-size:18px\;"><span style="font-family:arial\;"><strong><span style="color:#182752\;">Tell legislators what&#39\;s important to your business!</span></strong></span></span></td>\n		</tr>\n	</tbody>\n</table>\n\n<div>&nbsp\;</div>\n\n<table border="0" cellpadding="0" cellspacing="0" style="width:100.0%\;border-collapse:collapse\;" width="100%">\n	<tbody>\n		<tr>\n			<td style="padding:7.5pt 7.5pt 15.0pt 7.5pt\;vertical-align:top\;"><span style="font-size:12px\;"><span style="font-family:arial\;"><span style="color:#555555\;">Make your voice heard! Each year\, real business people like you &ndash\; who create jobs and economic prosperity across Minnesota &ndash\; descend on St. Paul to rally for pro-growth economic policies in Minnesota. This is your opportunity to stand up for freedom of opportunity and choice for your business and your industry. Join the Minnesota Chamber and your chamber on February 27 for Chamber Day at the Capitol. Don&rsquo\;t miss your chance to meet with legislators from your area and share your business story and the importance of supporting business opportunities over mandates.</span><br />\n			&nbsp\;<br />\n			<strong><span style="color:#182752\;">DATE AND TIME</span></strong><br />\n			<span style="color:#555555\;">Thursday\, February 27\, 1:00-5:30 p.m.</span><br />\n			&nbsp\;&nbsp\;<br />\n			<strong><span style="color:#182752\;">PRICING</span></strong><br />\n			<span style="color:#555555\;">Thanks to our generous sponsor\, the first 12 Chamber members can attend this event for FREE.&nbsp\; We also have complimentary transportation from the Chamber office to the Capitol and back!</span><br />\n			&nbsp\;</span></span><br />\n			&nbsp\;</td>\n		</tr>\n	</tbody>\n</table>\n
LOCATION:LOCATION Minnesota State Capitol 75 Rev. Dr. Martin Luther King Jr. Boulevard St. Paul\, MN 55155
UID:e.411.668679
SEQUENCE:3
DTSTAMP:20260420T085236Z
URL:http://dev.setupsite.burnsvillechamber.com/events/details/2020-chamber-day-at-the-capitol-668679
END:VEVENT

END:VCALENDAR
