BEGIN:VCALENDAR
VERSION:2.0
PRODID:-//ChamberMaster//Event Calendar 2.0//EN
METHOD:PUBLISH
X-PUBLISHED-TTL:P3D
REFRESH-INTERVAL:P3D
CALSCALE:GREGORIAN
BEGIN:VEVENT
DTSTART:20200219T140000Z
DTEND:20200219T150000Z
X-MICROSOFT-CDO-ALLDAYEVENT:FALSE
SUMMARY:2020 February Joint AM Coffee Break
DESCRIPTION:Please join Apple Valley\, Burnsville & Lakeville Chambers at 360 Communities for the February 19 AM Coffee Break and bring any of the following personal care products to support their mission: shampoo\, conditioner\, toothpaste\, dental floss\, soap\, shower gel\, feminine hygiene products\, etc.\n\n\n\n360 Communities is a non-profit agency founded in 1970 by a group of volunteers. Administrative offices are located in Burnsville\, Minnesota\, United States. Its aim is "changing lives and strengthening communities to a new degree".\n\n\n\n360 Communities delivers safety and stability that improves lives.
X-ALT-DESC;FMTTYPE=text/html:Please join Apple Valley\, Burnsville &amp\; Lakeville Chambers at 360 Communities for the February 19 AM Coffee Break and bring any of the following p<span style="color: rgb(50\, 49\, 48)\; font-family: Calibri\, sans-serif\; font-size: 14.6667px\;">ersonal care products</span> to support their mission: s<span style="color: rgb(50\, 49\, 48)\; font-family: Calibri\, sans-serif\; font-size: 14.6667px\;">hampoo\, c<span style="color: rgb(50\, 49\, 48)\; font-family: Calibri\, sans-serif\; font-size: 14.6667px\;">onditioner\, t<span style="color: rgb(50\, 49\, 48)\; font-family: Calibri\, sans-serif\; font-size: 14.6667px\;">oothpaste\, d<span style="color: rgb(50\, 49\, 48)\; font-family: Calibri\, sans-serif\; font-size: 14.6667px\;">ental floss\, s<span style="color: rgb(50\, 49\, 48)\; font-family: Calibri\, sans-serif\; font-size: 14.6667px\;">oap\, s<span style="color: rgb(50\, 49\, 48)\; font-family: Calibri\, sans-serif\; font-size: 14.6667px\;">hower gel\, f<span style="color: rgb(50\, 49\, 48)\; font-family: Calibri\, sans-serif\; font-size: 14.6667px\;">eminine hygiene products\, etc.</span></span></span></span></span></span></span><br />\n<br />\n<span style="color: rgb(34\, 34\, 34)\; font-family: Roboto\, arial\, sans-serif\; font-size: small\;">360 Communities is a non-profit agency founded in 1970 by a group of volunteers. Administrative offices are located in Burnsville\, Minnesota\, United States. Its aim is &quot\;changing lives and strengthening communities to a new degree&quot\;.</span><br />\n<br />\n<span style="color: rgb(32\, 31\, 30)\; font-family: Calibri\, sans-serif\; font-size: 14.6667px\;">360 Communities delivers safety and stability that improves lives.</span>
LOCATION:360 Communities 501 East Highway 13 Suite 112 Burnsville\, MN 55337
UID:e.411.668661
SEQUENCE:3
DTSTAMP:20260420T085218Z
URL:http://dev.setupsite.burnsvillechamber.com/events/details/2020-february-joint-am-coffee-break-668661
END:VEVENT

END:VCALENDAR
