BEGIN:VCALENDAR
VERSION:2.0
PRODID:-//ChamberMaster//Event Calendar 2.0//EN
METHOD:PUBLISH
X-PUBLISHED-TTL:P3D
REFRESH-INTERVAL:P3D
CALSCALE:GREGORIAN
BEGIN:VEVENT
DTSTART:20200108T140000Z
DTEND:20200108T150000Z
X-MICROSOFT-CDO-ALLDAYEVENT:FALSE
SUMMARY:2020 January AM Coffee Break Lunds & Byerlys
DESCRIPTION:Let's kick off the new year by having our AM Coffee Break at Lunds & Byerlys.\n\n\n\nLunds & Byerlys grocery store offers many varieties in pastries\, cakes\, fresh seafood & meat\, produce\, along with a Carbou and Bachmanns. Come learn more about Lunds & Byerlys and enjoy great conversations.
X-ALT-DESC;FMTTYPE=text/html:Let&#39\;s kick off the new year by having our AM Coffee Break at Lunds &amp\; Byerlys.<br />\n<br />\nLunds &amp\; Byerlys grocery store offers many varieties in pastries\, cakes\, fresh seafood &amp\; meat\, produce\, along with a Carbou and Bachmanns. Come learn more about Lunds &amp\; Byerlys and enjoy great conversations.<br />\n<br />\n&nbsp\;
LOCATION:Lunds & Byerlys 401 East County Road 42 Burnsville\, MN 55306
UID:e.411.668639
SEQUENCE:3
DTSTAMP:20260420T113827Z
URL:http://dev.setupsite.burnsvillechamber.com/events/details/2020-january-am-coffee-break-lunds-byerlys-668639
END:VEVENT

END:VCALENDAR
