BEGIN:VCALENDAR
VERSION:2.0
PRODID:-//ChamberMaster//Event Calendar 2.0//EN
METHOD:PUBLISH
X-PUBLISHED-TTL:P3D
REFRESH-INTERVAL:P3D
CALSCALE:GREGORIAN
BEGIN:VEVENT
DTSTART:20200123T223000Z
DTEND:20200124T003000Z
X-MICROSOFT-CDO-ALLDAYEVENT:FALSE
SUMMARY:2020 January Business After Hours JL Beers
DESCRIPTION:Join us for the January Business After Hours at JL Beers!\n\n\n\n"We've been making friends one beer at a time since 2009."
X-ALT-DESC;FMTTYPE=text/html:Join us for the January Business After Hours at JL Beers!<br />\n<br />\n&ldquo\;We&rsquo\;ve been making friends one beer at a time since 2009.&rdquo\;<br />\n&nbsp\;
LOCATION:JL Beers 1230 County Road 42 West Burnsville\, MN 55337
UID:e.411.668657
SEQUENCE:3
DTSTAMP:20260420T113836Z
URL:http://dev.setupsite.burnsvillechamber.com/events/details/2020-january-business-after-hours-jl-beers-668657
END:VEVENT

END:VCALENDAR
