BEGIN:VCALENDAR
VERSION:2.0
PRODID:-//ChamberMaster//Event Calendar 2.0//EN
METHOD:PUBLISH
X-PUBLISHED-TTL:P3D
REFRESH-INTERVAL:P3D
CALSCALE:GREGORIAN
BEGIN:VEVENT
DTSTART:20150213T170000Z
DTEND:20150213T193000Z
X-MICROSOFT-CDO-ALLDAYEVENT:FALSE
SUMMARY:30th Annual Domestic and Sexual Violence Awareness Luncheon
DESCRIPTION:The Domestic and Sexual Violence Awareness Luncheon takes place on February 13th at Brackett's Crossing Country Club in Lakeville. The event brings together community leaders\, law enforcement and concerned citizens to shed a light on the issues of domestic and sexual violence. This year's guest speaker is Joy Friedman from Breaking Free\, an organization that helps victims of prostitution escape and start new lives.
X-ALT-DESC;FMTTYPE=text/html:The Domestic and Sexual Violence Awareness Luncheon takes place on February 13th at Brackett&#39\;s Crossing Country Club in Lakeville. The event brings together community leaders\, law enforcement and concerned citizens to shed a light on the issues of domestic and sexual violence. This year&#39\;s guest speaker is Joy Friedman from Breaking Free\, an organization that helps victims of prostitution escape and start new lives.
LOCATION:Brackett's Crossing Country Club 17976 Judicial Road Lakeville\, MN 55044
UID:e.411.666911
SEQUENCE:3
DTSTAMP:20260424T210954Z
URL:http://dev.setupsite.burnsvillechamber.com/events/details/30th-annual-domestic-and-sexual-violence-awareness-luncheon-02-13-2015-666911
END:VEVENT

END:VCALENDAR
