BEGIN:VCALENDAR
VERSION:2.0
PRODID:-//ChamberMaster//Event Calendar 2.0//EN
METHOD:PUBLISH
X-PUBLISHED-TTL:P3D
REFRESH-INTERVAL:P3D
CALSCALE:GREGORIAN
BEGIN:VEVENT
DTSTART:20131109T180000Z
DTEND:20131109T210000Z
X-MICROSOFT-CDO-ALLDAYEVENT:FALSE
SUMMARY:6th Annual FREE Holiday Preview Event
DESCRIPTION:It's a tasting extravaganza across the co-op! Valley Natural Foods invites the entire community to experience this FREE event\, which highlights the co-op?s twist on holiday traditions. The store will feature nearly 20 tasting demonstrations across every department\, including delightful appetizers\, fresh first courses\, savory sides and succulent main dishes. The deli will sample its holiday catering menu in the hot bar area. Meet and taste items from local producers including turkey from Ferndale Market and dairy items from Kalona SuperNatural. Valley Natural Foods hopes to alleviate consumer stress by providing helpful recipes and ideas to liven up traditions\, making the holidays more enjoyable.
X-ALT-DESC;FMTTYPE=text/html:It&#39\;s a tasting extravaganza across the co-op! Valley Natural Foods invites the entire community to experience this FREE event\, which highlights the co-op?s twist on holiday traditions. The store will feature nearly 20 tasting demonstrations across every department\, including delightful appetizers\, fresh first courses\, savory sides and succulent main dishes. The deli will sample its holiday catering menu in the hot bar area. Meet and taste items from local producers including turkey from Ferndale Market and dairy items from Kalona SuperNatural. Valley Natural Foods hopes to alleviate consumer stress by providing helpful recipes and ideas to liven up traditions\, making the holidays more enjoyable.
LOCATION:Valley Natural Foods 13750 County Road 11 Burnsville\, MN
UID:e.411.666723
SEQUENCE:3
DTSTAMP:20260425T231325Z
URL:http://dev.setupsite.burnsvillechamber.com/events/details/6th-annual-free-holiday-preview-event-11-09-2013-666723
END:VEVENT

END:VCALENDAR
