BEGIN:VCALENDAR
VERSION:2.0
PRODID:-//ChamberMaster//Event Calendar 2.0//EN
METHOD:PUBLISH
X-PUBLISHED-TTL:P3D
REFRESH-INTERVAL:P3D
CALSCALE:GREGORIAN
BEGIN:VEVENT
DTSTART;VALUE=DATE:20131205
DTEND;VALUE=DATE:20131206
TRANSP:TRANSPARENT
X-MICROSOFT-CDO-ALLDAYEVENT:TRUE
SUMMARY:A Holiday Affair at the Arboretum Shop Event
DESCRIPTION:Get in the spirit of the holidays while strolling through dazzling boughs of holly\, surrounded in seasonally decorated greenery at the MN Landscape & Arboretum.  Come to enjoy an evening of much fun and shopping:\n\n\n\n- Swag Bags for the 1st 300 Attendees (filled with incredible offers and goodies!)\n\n- Meet a couple U.S. Marines\, and bring a new toy in support of Twin Cities Toys for Tots (receive a $5 Shop Buck)\n\n- Fabulous Door Prizes!\n\n- Enjoy live music by Jazziblu\n\n- FREE wine tasting by local wineries\n\n- Treat yourself to FREE holidays goodies by the Arboretum catering company\, Cafe is also open\n\n- Cash bar\n\n- Coat and bag check provided
X-ALT-DESC;FMTTYPE=text/html:Get in the spirit of the holidays while strolling through dazzling boughs of holly\, surrounded in seasonally decorated greenery at the MN Landscape &amp\; Arboretum. &nbsp\;Come to enjoy an evening of much fun and shopping:<br />\n<br />\n- Swag Bags for the 1st 300 Attendees (filled with incredible offers and goodies!)<br />\n- Meet a couple U.S. Marines\, and bring a new toy in support of Twin Cities Toys for Tots (receive a $5 Shop Buck)<br />\n- Fabulous Door Prizes!<br />\n- Enjoy live music by Jazziblu<br />\n- FREE wine tasting by local wineries<br />\n- Treat yourself to FREE holidays goodies by the Arboretum catering company\, Cafe is also open<br />\n- Cash bar<br />\n- Coat and bag check provided
LOCATION:3675 Arboretum Drive Chaska\, MN 55318
UID:e.411.666724
SEQUENCE:3
DTSTAMP:20260425T231630Z
URL:http://dev.setupsite.burnsvillechamber.com/events/details/a-holiday-affair-at-the-arboretum-shop-event-12-05-2013-666724
END:VEVENT

END:VCALENDAR
