BEGIN:VCALENDAR
VERSION:2.0
PRODID:-//ChamberMaster//Event Calendar 2.0//EN
METHOD:PUBLISH
X-PUBLISHED-TTL:P3D
REFRESH-INTERVAL:P3D
CALSCALE:GREGORIAN
BEGIN:VEVENT
DTSTART:20131206T000000Z
DTEND:20131206T040000Z
X-MICROSOFT-CDO-ALLDAYEVENT:FALSE
SUMMARY:All that Glitters Holiday Gala
DESCRIPTION:Join us on Thursday\, December 5th for the All That Glitters\, 2013 Annual Holiday Gala.  Enjoy a delicious meal\, great entertainment and the announcement of the Business Person of the Year.\n\n\n\nThursday\, December 5\n\n6:00 pm Cocktail Hour\n\n7:00 pm Dinner\n\n8:00 pm Announcement of the Business Person of the Year\n\n8:30 pm Entertainment\n\n\n	Best Western Premier\, Nicollet Inn\n\n	14201 Nicollet Avenue\n\n	Burnsville\, MN
X-ALT-DESC;FMTTYPE=text/html:Join us on Thursday\, December 5th for the <em>All That Glitters</em>\,&nbsp\;2013 Annual Holiday Gala.&nbsp\; Enjoy a delicious meal\, great&nbsp\;entertainment and the announcement of the Business Person of the Year.<br />\n<br />\nThursday\, December 5<br />\n6:00 pm Cocktail Hour<br />\n7:00 pm Dinner<br />\n8:00 pm Announcement of the Business Person of the Year<br />\n8:30 pm Entertainment<br />\n<p>\n	Best Western Premier\, Nicollet Inn<br />\n	14201 Nicollet Avenue<br />\n	Burnsville\, MN<br />\n	<br />\n	&nbsp\;</p>\n
LOCATION:Best Western Premier\, Nicollet Inn 14201 Nicollet Avenue Burnsville\, MN
UID:e.411.666719
SEQUENCE:3
DTSTAMP:20260425T213405Z
URL:http://dev.setupsite.burnsvillechamber.com/events/details/all-that-glitters-holiday-gala-12-05-2013-666719
END:VEVENT

END:VCALENDAR
