BEGIN:VCALENDAR
VERSION:2.0
PRODID:-//ChamberMaster//Event Calendar 2.0//EN
METHOD:PUBLISH
X-PUBLISHED-TTL:P3D
REFRESH-INTERVAL:P3D
CALSCALE:GREGORIAN
BEGIN:VEVENT
DTSTART:20131212T020000Z
DTEND:20131212T030000Z
X-MICROSOFT-CDO-ALLDAYEVENT:FALSE
SUMMARY:AM Coffee Break at THR!VE
DESCRIPTION:Join us on Wednesday\, December 11 for the AM Coffee Break networking event. Learn all about Herbalife supplements and enjoy a delicious and nutritious shake.
X-ALT-DESC;FMTTYPE=text/html:Join us on Wednesday\, December 11 for the AM Coffee Break networking event. Learn all about Herbalife supplements and enjoy a delicious&nbsp\;and nutritious shake.
LOCATION:THR!VE 5741 Egan Drive Savage\, MN
UID:e.411.666726
SEQUENCE:3
DTSTAMP:20260425T230608Z
URL:http://dev.setupsite.burnsvillechamber.com/events/details/am-coffee-break-at-thr-ve-12-11-2013-666726
END:VEVENT

END:VCALENDAR
