BEGIN:VCALENDAR
VERSION:2.0
PRODID:-//ChamberMaster//Event Calendar 2.0//EN
METHOD:PUBLISH
X-PUBLISHED-TTL:P3D
REFRESH-INTERVAL:P3D
CALSCALE:GREGORIAN
BEGIN:VEVENT
DTSTART:20150513T130000Z
DTEND:20150513T140000Z
X-MICROSOFT-CDO-ALLDAYEVENT:FALSE
SUMMARY:AM Coffee Break @ Cashman Center
DESCRIPTION:Join us for the May AM Coffee Break at the peaceful Cashman Center! Learn more about their "Integrative Therapies for Both Body & Mind"!
X-ALT-DESC;FMTTYPE=text/html:Join us for the May AM Coffee Break at the peaceful Cashman Center! Learn more about their &quot\;Integrative Therapies for Both Body &amp\; Mind&quot\;!
LOCATION:Cashman Center 2100 County Road 42 West Burnsville
UID:e.411.666936
SEQUENCE:3
DTSTAMP:20260424T155827Z
URL:http://dev.setupsite.burnsvillechamber.com/events/details/am-coffee-break-cashman-center-05-13-2015-666936
END:VEVENT

END:VCALENDAR
