BEGIN:VCALENDAR
VERSION:2.0
PRODID:-//ChamberMaster//Event Calendar 2.0//EN
METHOD:PUBLISH
X-PUBLISHED-TTL:P3D
REFRESH-INTERVAL:P3D
CALSCALE:GREGORIAN
BEGIN:VEVENT
DTSTART:20140409T130000Z
DTEND:20140409T140000Z
X-MICROSOFT-CDO-ALLDAYEVENT:FALSE
SUMMARY:AM Coffee Break - GR Promotions
DESCRIPTION:Join us for the April AM Coffee Break Networking Event hosted by GR Promotions and Aero Drapery & Blind. Enjoy delicious breakfast goodies and coffee while networking with other chamber members.
X-ALT-DESC;FMTTYPE=text/html:Join us for the April AM Coffee Break Networking Event hosted by GR Promotions and Aero Drapery &amp\; Blind. Enjoy delicious breakfast goodies and coffee while networking with other chamber members.
LOCATION:Aero Drapery & Blind 1254 County Road 42 West (near Champps) Burnsville\, MN
UID:e.411.666736
SEQUENCE:3
DTSTAMP:20260425T150719Z
URL:http://dev.setupsite.burnsvillechamber.com/events/details/am-coffee-break-gr-promotions-04-09-2014-666736
END:VEVENT

END:VCALENDAR
