BEGIN:VCALENDAR
VERSION:2.0
PRODID:-//ChamberMaster//Event Calendar 2.0//EN
METHOD:PUBLISH
X-PUBLISHED-TTL:P3D
REFRESH-INTERVAL:P3D
CALSCALE:GREGORIAN
BEGIN:VEVENT
DTSTART:20131113T140000Z
DTEND:20131113T150000Z
X-MICROSOFT-CDO-ALLDAYEVENT:FALSE
SUMMARY:AM Coffee Break - Pawn America
DESCRIPTION:Please join us for the November AM Coffee Break at Pawn America.  Enjoy delicious breakfast goodies while networking with other chamber members. Remember to bring plenty of business cards.
X-ALT-DESC;FMTTYPE=text/html:Please join us for the November AM Coffee Break at Pawn America.&nbsp\; Enjoy delicious breakfast goodies while networking with other chamber members. Remember to bring plenty of business cards.
LOCATION:Pawn America store 13959 Grand Avenue Burnsville\, MN
UID:e.411.666714
SEQUENCE:3
DTSTAMP:20260425T231330Z
URL:http://dev.setupsite.burnsvillechamber.com/events/details/am-coffee-break-pawn-america-11-13-2013-666714
END:VEVENT

END:VCALENDAR
