BEGIN:VCALENDAR
VERSION:2.0
PRODID:-//ChamberMaster//Event Calendar 2.0//EN
METHOD:PUBLISH
X-PUBLISHED-TTL:P3D
REFRESH-INTERVAL:P3D
CALSCALE:GREGORIAN
BEGIN:VEVENT
DTSTART:20140312T130000Z
DTEND:20140312T140000Z
X-MICROSOFT-CDO-ALLDAYEVENT:FALSE
SUMMARY:AM Coffee Break - SharePoint Credit Union
DESCRIPTION:Join us at Share Point Credit Union for this month's AM Coffee Break Networking Event.  Enjoy tasty breakfast treats and coffee while networking with other chamber members.
X-ALT-DESC;FMTTYPE=text/html:Join us at Share Point Credit Union for this month&#39\;s AM Coffee Break Networking Event.&nbsp\; Enjoy tasty breakfast treats and coffee while networking with other chamber members.
LOCATION:Share Point Credit Union 200 East Travelers Trail (Near Cub Foods on Nicollet and Hwy 13) Burnsville\, MN
UID:e.411.666734
SEQUENCE:3
DTSTAMP:20260425T163447Z
URL:http://dev.setupsite.burnsvillechamber.com/events/details/am-coffee-break-sharepoint-credit-union-03-12-2014-666734
END:VEVENT

END:VCALENDAR
