BEGIN:VCALENDAR
VERSION:2.0
PRODID:-//ChamberMaster//Event Calendar 2.0//EN
METHOD:PUBLISH
X-PUBLISHED-TTL:P3D
REFRESH-INTERVAL:P3D
CALSCALE:GREGORIAN
BEGIN:VEVENT
DTSTART:20140507T130000Z
DTEND:20140507T140000Z
X-MICROSOFT-CDO-ALLDAYEVENT:FALSE
SUMMARY:AM Coffee Break - Workforce Centers
DESCRIPTION:Join us at the Workforce Centers of Dakota and Scott Counties office in Burnsville for this month's AM Coffee Break. Enjoy tasty breakfast treats and coffee while networking with other chamber members.
X-ALT-DESC;FMTTYPE=text/html:Join us at the Workforce Centers of Dakota and Scott Counties office in Burnsville for this month&#39\;s AM Coffee Break. Enjoy tasty breakfast treats and coffee while networking with other chamber members.
LOCATION:Workforce Centers of Dakota & Scott County 2800 County Road 42 Burnsville
UID:e.411.666737
SEQUENCE:3
DTSTAMP:20260425T131133Z
URL:http://dev.setupsite.burnsvillechamber.com/events/details/am-coffee-break-workforce-centers-05-07-2014-666737
END:VEVENT

END:VCALENDAR
