BEGIN:VCALENDAR
VERSION:2.0
PRODID:-//ChamberMaster//Event Calendar 2.0//EN
METHOD:PUBLISH
X-PUBLISHED-TTL:P3D
REFRESH-INTERVAL:P3D
CALSCALE:GREGORIAN
BEGIN:VEVENT
DTSTART:20200217T190000Z
DTEND:20200217T210000Z
X-MICROSOFT-CDO-ALLDAYEVENT:FALSE
SUMMARY:AMA Waterways Travel Show
DESCRIPTION:Please join us for AMA Waterways River Cruising on Monday\, February 17th   1:00pm at the Burnsville AAA office. Space is limited\, to RSVP you can reply to this email\, or call 952-707-4500 or online at www.aaa.com/events Location: AAA Burnsville 600 West Travelers Tr. Burnsville MN 55337
X-ALT-DESC;FMTTYPE=text/html:Please join us for AMA Waterways River Cruising on Monday\, February 17th &ndash\; 1:00pm at the Burnsville AAA office. Space is limited\, to RSVP you can reply to this email\, or call 952-707-4500 or online at www.aaa.com/events Location: AAA Burnsville 600 West Travelers Tr. Burnsville MN 55337
LOCATION:AAA Burnsville 600 West Travelers Tr. Burnsville
UID:e.411.668680
SEQUENCE:3
DTSTAMP:20260420T085355Z
URL:http://dev.setupsite.burnsvillechamber.com/events/details/ama-waterways-travel-show-668680
END:VEVENT

END:VCALENDAR
