BEGIN:VCALENDAR
VERSION:2.0
PRODID:-//ChamberMaster//Event Calendar 2.0//EN
METHOD:PUBLISH
X-PUBLISHED-TTL:P3D
REFRESH-INTERVAL:P3D
CALSCALE:GREGORIAN
BEGIN:VEVENT
DTSTART:20141007T150000Z
DTEND:20141007T190000Z
X-MICROSOFT-CDO-ALLDAYEVENT:FALSE
SUMMARY:Annual Customer Appreciation and Brand Expo
DESCRIPTION:It's the Vernon Brand Expo and Customer Appreciation Event! Come and check out the latest in promotional products and business branding ideas.  Key vendors will have product displays and samples to share.  Come with your shoping lists and brand questions - we can help you find the right item to "Get Your Brand On!".  Also enjoy a wonderful lunch on behalf of Vernon Company.\n\n\n\nPlease register by Monday\, October 6th!
X-ALT-DESC;FMTTYPE=text/html:It&#39\;s the Vernon Brand Expo and Customer Appreciation Event! Come and check out the latest in promotional products and business branding ideas.&nbsp\; Key vendors will have product displays and samples to share.&nbsp\; Come with your shoping lists and brand questions - we can help you find the right item to &quot\;Get Your Brand On!&quot\;.&nbsp\; Also enjoy a wonderful lunch on behalf of Vernon Company.<br />\n<br />\nPlease register by Monday\, October 6th!
LOCATION:Best Western Premier Nicollet Inn 14201 Nicollet Avenue South Burnsville\, MN 55337
UID:e.411.666875
SEQUENCE:3
DTSTAMP:20260425T040329Z
URL:http://dev.setupsite.burnsvillechamber.com/events/details/annual-customer-appreciation-and-brand-expo-10-07-2014-666875
END:VEVENT

END:VCALENDAR
