BEGIN:VCALENDAR
VERSION:2.0
PRODID:-//ChamberMaster//Event Calendar 2.0//EN
METHOD:PUBLISH
X-PUBLISHED-TTL:P3D
REFRESH-INTERVAL:P3D
CALSCALE:GREGORIAN
BEGIN:VEVENT
DTSTART:20140123T173000Z
DTEND:20140123T190000Z
X-MICROSOFT-CDO-ALLDAYEVENT:FALSE
SUMMARY:Annual Meeting & Luncheon
DESCRIPTION:Save the date\, more information to come
X-ALT-DESC;FMTTYPE=text/html:<div align="center">\n	<div align="center">\n		<font face="Comic Sans MS" size="2">Save the date\, more information to come</font></div>\n	<div align="center">\n		&nbsp\;</div>\n</div>\n<div align="center">\n	&nbsp\;</div>\n
LOCATION:TBD
UID:e.411.666728
SEQUENCE:3
DTSTAMP:20260425T193839Z
URL:http://dev.setupsite.burnsvillechamber.com/events/details/annual-meeting-luncheon-01-23-2014-666728
END:VEVENT

END:VCALENDAR
