BEGIN:VCALENDAR
VERSION:2.0
PRODID:-//ChamberMaster//Event Calendar 2.0//EN
METHOD:PUBLISH
X-PUBLISHED-TTL:P3D
REFRESH-INTERVAL:P3D
CALSCALE:GREGORIAN
BEGIN:VEVENT
DTSTART:20141111T153000Z
DTEND:20141111T173000Z
X-MICROSOFT-CDO-ALLDAYEVENT:FALSE
SUMMARY:ATTENTION ENTREPRENEURS! Be Successful: Get Out of Your Own Way
DESCRIPTION:Attend this powerful 2 hour workshop and learn '5 Impactful Strategies to Increase Your Bottom-Line\, Work Smarter\, and Create Better Results With and Through People'!  You'll also gain essential insights and strategies for:\n\n* Enrolling and retaining clients and customers\n\n* Increasing revenue and growth\n\n* Hiring the right people for the right job\n\n* Building confidence and making important decisions\n\n* Lowering anxiety and frustration and staying in your creativity zone\n\n* Gaining more time\, freedom\, satisfaction\, and results each and every day
X-ALT-DESC;FMTTYPE=text/html:<div style="color: gray\;">Attend this powerful 2 hour workshop and learn &#39\;5 Impactful Strategies to Increase Your Bottom-Line\, Work Smarter\, and Create Better Results With and Through People&#39\;!&nbsp\; You&#39\;ll also gain essential insights and strategies for:<br />\n* Enrolling and retaining clients and customers<br />\n* Increasing revenue and growth<br />\n* Hiring the right people for the right job<br />\n* Building confidence and making important decisions<br />\n* Lowering anxiety and frustration and staying in your creativity zone<br />\n* Gaining more time\, freedom\, satisfaction\, and results each and every day<br />\n<br />\n&nbsp\;</div>\n
LOCATION:190 River Ridge Circle South Burnsville\, MN Event Room - Lower Level
UID:e.411.666878
SEQUENCE:3
DTSTAMP:20260425T040538Z
URL:http://dev.setupsite.burnsvillechamber.com/events/details/attention-entrepreneurs-be-successful-get-out-of-your-own-way-11-11-2014-666878
END:VEVENT

END:VCALENDAR
