BEGIN:VCALENDAR
VERSION:2.0
PRODID:-//ChamberMaster//Event Calendar 2.0//EN
METHOD:PUBLISH
X-PUBLISHED-TTL:P3D
REFRESH-INTERVAL:P3D
CALSCALE:GREGORIAN
BEGIN:VEVENT
DTSTART:20130801T213000Z
DTEND:20130801T233000Z
X-MICROSOFT-CDO-ALLDAYEVENT:FALSE
SUMMARY:August Business After Hours Event
DESCRIPTION:Join us at the newest Arbors at Ridges Campus location for this month's Business After Hours event. Enjoy delicious appetizers and beverages while touring the new facility and networking with other chamber members.
X-ALT-DESC;FMTTYPE=text/html:Join us at the newest Arbors at Ridges Campus location for this month&#39\;s Business After Hours event. Enjoy delicious appetizers and beverages while touring the new facility and networking with other chamber members.
LOCATION:Arbors at Ridges Campus 13897 Community Drive Burnsville\, MN
UID:e.411.666621
SEQUENCE:3
DTSTAMP:20260426T042650Z
URL:http://dev.setupsite.burnsvillechamber.com/events/details/august-business-after-hours-event-08-01-2013-666621
END:VEVENT

END:VCALENDAR
