BEGIN:VCALENDAR
VERSION:2.0
PRODID:-//ChamberMaster//Event Calendar 2.0//EN
METHOD:PUBLISH
X-PUBLISHED-TTL:P3D
REFRESH-INTERVAL:P3D
CALSCALE:GREGORIAN
BEGIN:VEVENT
DTSTART:20130817T150000Z
DTEND:20130817T170000Z
X-MICROSOFT-CDO-ALLDAYEVENT:FALSE
SUMMARY:Bark in the Park! at Northern Life Chiropractic
DESCRIPTION:Bark in the Park\n\n	When: Saturday\, August 17th from 10am-12pm\n\n	Where: Sunset Ponds Park in Burnsville\, MN\n\n	What: Bring your four legged best friend for a morning of fun and activities! We will have a walking course set up around Sunset Pond. There will be massage stations set up around the 1.7 mile walk to stop and have some relaxation while your dog gets a water break. Hot dogs\, music and water will be available for all who attend. There will be businesses at the events with promotional items along with a 'doggy bag' for you and your special canine. There will even be an exceptional Frisbee show by a professional and his two dogs at 10am! Come join the fun!
X-ALT-DESC;FMTTYPE=text/html:<p align="center" style="margin: 0px 0px 14px\; padding: 0px\; text-align: center\; line-height: 19.2pt\;">\n	<font size="3"><strong><span lang="EN" style="margin: 0px\; padding: 0px\; color: rgb(51\, 51\, 51)\; font-family: &quot\;Copperplate Gothic Bold&quot\;\, sans-serif\;">Bark in the Park</span></strong><span lang="EN" style="margin: 0px\; padding: 0px\; color: rgb(51\, 51\, 51)\; font-family: &quot\;Copperplate Gothic Bold&quot\;\, sans-serif\; font-size: 10pt\;"><o:p></o:p></span></font></p>\n<p style="margin: 14px 0px\; padding: 0px\; line-height: 19.2pt\;">\n	<strong><span lang="EN" style="margin: 0px\; padding: 0px\; color: rgb(51\, 51\, 51)\; font-family: &quot\;Copperplate Gothic Bold&quot\;\, sans-serif\; font-size: 10pt\;">When:&nbsp\;</span></strong><span lang="EN" style="margin: 0px\; padding: 0px\; color: rgb(51\, 51\, 51)\; font-family: &quot\;Copperplate Gothic Bold&quot\;\, sans-serif\; font-size: 10pt\;">Saturday\, August 17th from 10am-12pm</span></p>\n<p style="margin: 14px 0px\; padding: 0px\; line-height: 19.2pt\;">\n	<strong><span lang="EN" style="margin: 0px\; padding: 0px\; color: rgb(51\, 51\, 51)\; font-family: &quot\;Copperplate Gothic Bold&quot\;\, sans-serif\; font-size: 10pt\;">Where:&nbsp\;</span></strong><span lang="EN" style="margin: 0px\; padding: 0px\; color: rgb(51\, 51\, 51)\; font-family: &quot\;Copperplate Gothic Bold&quot\;\, sans-serif\; font-size: 10pt\;">Sunset Ponds Park in Burnsville\, MN<o:p></o:p></span></p>\n<p style="margin: 14px 0px\; padding: 0px\; line-height: 19.2pt\;">\n	<strong><span lang="EN" style="margin: 0px\; padding: 0px\; color: rgb(51\, 51\, 51)\; font-family: &quot\;Copperplate Gothic Bold&quot\;\, sans-serif\; font-size: 10pt\;">What:</span></strong><span lang="EN" style="margin: 0px\; padding: 0px\; color: rgb(51\, 51\, 51)\; font-family: &quot\;Copperplate Gothic Bold&quot\;\, sans-serif\; font-size: 10pt\;">&nbsp\;Bring your four legged best friend for a morning of fun and activities! We will have a walking course set up around Sunset Pond. There will be massage stations set up around the 1.7 mile walk to stop and have some relaxation while your dog gets a water break. Hot dogs\, music and water will be available for all who attend. There will be businesses at the events with promotional items along with a &#39\;doggy bag&#39\; for you and your special canine. There will even be an exceptional Frisbee show by a professional and his two dogs at 10am! Come join the fun!&nbsp\;</span></p>\n
LOCATION:3398 W Burnsville Pky\, Burnsville\, MN 55337
UID:e.411.666660
SEQUENCE:3
DTSTAMP:20260426T042913Z
URL:http://dev.setupsite.burnsvillechamber.com/events/details/bark-in-the-park-at-northern-life-chiropractic-08-17-2013-666660
END:VEVENT

END:VCALENDAR
