BEGIN:VCALENDAR
VERSION:2.0
PRODID:-//ChamberMaster//Event Calendar 2.0//EN
METHOD:PUBLISH
X-PUBLISHED-TTL:P3D
REFRESH-INTERVAL:P3D
CALSCALE:GREGORIAN
BEGIN:VEVENT
DTSTART:20140108T173000Z
DTEND:20140108T190000Z
X-MICROSOFT-CDO-ALLDAYEVENT:FALSE
SUMMARY:BBB Focus Luncheon: Enhance Your Online Presence: Social Media
DESCRIPTION:"Enhance Your Online Presence: Social Media"    \n\nBy Ben Theis\, Skol Marketing\n\n\n\nHaving a website is essential but it doesn't stop there! Learn how social media can impact your business as we talk about Facebook\, Twitter\, Google+ and LinkedIn. Discover how to take advantage of these resources and learn what you need to know to do it yourself or to find someone qualified to do it for you.
X-ALT-DESC;FMTTYPE=text/html:<strong>&ldquo\;Enhance Your Online Presence: Social Media&rdquo\;&nbsp\;&nbsp\;&nbsp\; </strong><br />\n<em>By Ben Theis\, Skol Marketing</em><br />\n<br />\n<span style="background: white\;">Having a website is essential but it doesn&rsquo\;t stop there! Learn how social media can impact your business as we talk about Facebook\, Twitter\, Google+ and LinkedIn. Discover how to take advantage of these resources and learn what you need to know to do it yourself or to find someone qualified to do it for you.</span><br />\n&nbsp\;<br />\n
LOCATION:Better Business Bureau 220 S. River Ridge Circle Burnsville\, MN 55337
UID:e.411.666707
SEQUENCE:3
DTSTAMP:20260425T193947Z
URL:http://dev.setupsite.burnsvillechamber.com/events/details/bbb-focus-luncheon-enhance-your-online-presence-social-media-01-08-2014-666707
END:VEVENT

END:VCALENDAR
