BEGIN:VCALENDAR
VERSION:2.0
PRODID:-//ChamberMaster//Event Calendar 2.0//EN
METHOD:PUBLISH
X-PUBLISHED-TTL:P3D
REFRESH-INTERVAL:P3D
CALSCALE:GREGORIAN
BEGIN:VEVENT
DTSTART:20140409T163000Z
DTEND:20140409T180000Z
X-MICROSOFT-CDO-ALLDAYEVENT:FALSE
SUMMARY:BBB Focus Luncheon: How to Protect Your Business Information & Data
DESCRIPTION:Our experts will teach you the ropes of implementing strong security policies and give you the tools you need to implement online security at your workplace. They will also explain disaster recovery\, the process an organization uses to recover access to their software\, data\, and/or hardware necessary to resume critical business operations after the event of either a natural disaster or a disaster caused by humans. Presented by: Reid Johnston\, TechGen Consulting
X-ALT-DESC;FMTTYPE=text/html:Our experts will teach you the ropes of implementing strong security policies and give you the tools you need to implement online security at your workplace. They will also explain disaster recovery\, the process an organization uses to recover access to their software\, data\, and/or hardware necessary to resume critical business operations after the event of either a natural disaster or a disaster caused by humans. Presented by: Reid Johnston\, TechGen Consulting
LOCATION:Better Business Bureau 220 S. River Ridge Circle Burnsville\, MN 55337
UID:e.411.666770
SEQUENCE:3
DTSTAMP:20260425T144951Z
URL:http://dev.setupsite.burnsvillechamber.com/events/details/bbb-focus-luncheon-how-to-protect-your-business-information-data-04-09-2014-666770
END:VEVENT

END:VCALENDAR
