BEGIN:VCALENDAR
VERSION:2.0
PRODID:-//ChamberMaster//Event Calendar 2.0//EN
METHOD:PUBLISH
X-PUBLISHED-TTL:P3D
REFRESH-INTERVAL:P3D
CALSCALE:GREGORIAN
BEGIN:VEVENT
DTSTART:20131211T173000Z
DTEND:20131211T190000Z
X-MICROSOFT-CDO-ALLDAYEVENT:FALSE
SUMMARY:BBB Focus Luncheon: What Makes a Website Successful?
DESCRIPTION:"What Makes a Website Successful?"       \n\nBy Charles Goodman\, Plaudit Designs\n\n\n\nDo you want a website that does more than just exist\, but delivers results? This presentation will explain what it takes to create a successful website by following a professional process and methodology that keeps the project focused on business value. You will learn what aspects to focus on during a redesign\, who to have on your redesign team\, and how to clearly measure success of the project. You will also hear about important trends in technology\, and leave with valuable tips that lead to a successful website.
X-ALT-DESC;FMTTYPE=text/html:<strong>&ldquo\;What Makes a Website Successful?&rdquo\;&nbsp\;&nbsp\;&nbsp\;&nbsp\;&nbsp\;&nbsp\; </strong><br />\n<em>By Charles Goodman\, Plaudit Designs</em><br />\n<br />\n<span style="font-family: calibri\,sans-serif\;"><span style="font-size: 11pt\;">Do you want a website that does more than just exist\, but delivers results? This presentation will explain what it takes to create a successful website by following a professional process and methodology that keeps the project focused on business value. You will learn what aspects to focus on during a redesign\, who to have on your redesign team\, and how to clearly measure success of the project. You will also hear about important trends in technology\, and leave with valuable tips that lead to a successful website.</span></span>
LOCATION:Better Business Bureau 220 S. River Ridge Circle Burnsville\, MN 55337
UID:e.411.666706
SEQUENCE:3
DTSTAMP:20260425T213253Z
URL:http://dev.setupsite.burnsvillechamber.com/events/details/bbb-focus-luncheon-what-makes-a-website-successful-12-11-2013-666706
END:VEVENT

END:VCALENDAR
