BEGIN:VCALENDAR
VERSION:2.0
PRODID:-//ChamberMaster//Event Calendar 2.0//EN
METHOD:PUBLISH
X-PUBLISHED-TTL:P3D
REFRESH-INTERVAL:P3D
CALSCALE:GREGORIAN
BEGIN:VEVENT
DTSTART:20140423T220000Z
DTEND:20140424T000000Z
X-MICROSOFT-CDO-ALLDAYEVENT:FALSE
SUMMARY:BBB Networking Mixer
DESCRIPTION:Join your BBB and other local businesses for a fun evening of networking at the BBB?s Business Networking Mixer! Attendees will enjoy complimentary appetizers and one free drink. Other happy hour specials will be available during the event. This is a great chance to unwind and meet new people (and possibly new clients) in a fun and relaxing environment.
X-ALT-DESC;FMTTYPE=text/html:Join your BBB and other local businesses for a fun evening of networking at the BBB?s Business Networking Mixer! Attendees will enjoy complimentary appetizers and one free drink. Other happy hour specials will be available during the event. This is a great chance to unwind and meet new people (and possibly new clients) in a fun and relaxing environment.
LOCATION:Lyon's Pub 16 S 6th St Minneapolis\, MN
UID:e.411.666771
SEQUENCE:3
DTSTAMP:20260425T162028Z
URL:http://dev.setupsite.burnsvillechamber.com/events/details/bbb-networking-mixer-04-23-2014-666771
END:VEVENT

END:VCALENDAR
