BEGIN:VCALENDAR
VERSION:2.0
PRODID:-//ChamberMaster//Event Calendar 2.0//EN
METHOD:PUBLISH
X-PUBLISHED-TTL:P3D
REFRESH-INTERVAL:P3D
CALSCALE:GREGORIAN
BEGIN:VEVENT
DTSTART:20131120T230000Z
DTEND:20131121T010000Z
X-MICROSOFT-CDO-ALLDAYEVENT:FALSE
SUMMARY:BBB Networking Mixer - Summit Brewery
DESCRIPTION:Join your BBB and other businesses for a BBB Mixer   a casual evening of networking\, food and great Summit beer! This is a chance to unwind and meet new people (and possibly new clients) in a fun and relaxing environment. You will also have the opportunity to tour one of the most successful and respected breweries in the nation.
X-ALT-DESC;FMTTYPE=text/html:Join your BBB and other businesses for a BBB Mixer &ndash\; a casual evening of networking\, food and great Summit beer! This is a chance to unwind and meet new people (and possibly new clients) in a fun and relaxing environment. You will also have the opportunity to tour one of the most successful and respected breweries in the nation.
LOCATION:Summit Brewery 910 Montreal Circle St. Paul\, MN 55102
UID:e.411.666705
SEQUENCE:3
DTSTAMP:20260426T004321Z
URL:http://dev.setupsite.burnsvillechamber.com/events/details/bbb-networking-mixer-summit-brewery-11-20-2013-666705
END:VEVENT

END:VCALENDAR
