BEGIN:VCALENDAR
VERSION:2.0
PRODID:-//ChamberMaster//Event Calendar 2.0//EN
METHOD:PUBLISH
X-PUBLISHED-TTL:P3D
REFRESH-INTERVAL:P3D
CALSCALE:GREGORIAN
BEGIN:VEVENT
DTSTART:20140501T140000Z
DTEND:20140501T153000Z
X-MICROSOFT-CDO-ALLDAYEVENT:FALSE
SUMMARY:BBB Orientation & Networking Breakfast
DESCRIPTION:New and current Accredited Businesses are invited to connect with other local businesses and discover how to take advantage of all the great programs and services the BBB offers to help you build marketplace trust.
X-ALT-DESC;FMTTYPE=text/html:New and current Accredited Businesses are invited to connect with other local businesses and discover how to take advantage of all the great programs and services the BBB offers to help you build marketplace trust.
LOCATION:Better Business Bureau 220 S. River Ridge Circle Burnsville\, MN 55337
UID:e.411.666772
SEQUENCE:3
DTSTAMP:20260425T131134Z
URL:http://dev.setupsite.burnsvillechamber.com/events/details/bbb-orientation-networking-breakfast-05-01-2014-666772
END:VEVENT

END:VCALENDAR
