BEGIN:VCALENDAR
VERSION:2.0
PRODID:-//ChamberMaster//Event Calendar 2.0//EN
METHOD:PUBLISH
X-PUBLISHED-TTL:P3D
REFRESH-INTERVAL:P3D
CALSCALE:GREGORIAN
BEGIN:VEVENT
DTSTART:20131107T150000Z
DTEND:20131107T163000Z
X-MICROSOFT-CDO-ALLDAYEVENT:FALSE
SUMMARY:BBB Orientation & Networking Breakfast
DESCRIPTION:New and current Accredited Businesses are invited to connect with other local businesses and discover how to take advantage of all the great programs and services the BBB offers to help you build marketplace trust. Non-Accredited Businesses are welcome to attend as well to learn more about the BBB and network with business leaders.\n\n\n\nFREE. Breakfast included.
X-ALT-DESC;FMTTYPE=text/html:New and current Accredited Businesses are invited to connect with other local businesses and discover how to take advantage of all the great programs and services the BBB offers to help you build marketplace trust. Non-Accredited Businesses are welcome to attend as well to learn more about the BBB and network with business leaders.<br />\n<br />\nFREE. Breakfast included.
LOCATION:Better Business Bureau 220 S. River Ridge Circle Burnsville\, MN 55337
UID:e.411.666703
SEQUENCE:3
DTSTAMP:20260426T005622Z
URL:http://dev.setupsite.burnsvillechamber.com/events/details/bbb-orientation-networking-breakfast-11-07-2013-666703
END:VEVENT

END:VCALENDAR
