BEGIN:VCALENDAR
VERSION:2.0
PRODID:-//ChamberMaster//Event Calendar 2.0//EN
METHOD:PUBLISH
X-PUBLISHED-TTL:P3D
REFRESH-INTERVAL:P3D
CALSCALE:GREGORIAN
BEGIN:VEVENT
DTSTART:20131029T160000Z
DTEND:20131029T183000Z
X-MICROSOFT-CDO-ALLDAYEVENT:FALSE
SUMMARY:Better Business Bureau Torch Awards for Ethics
DESCRIPTION:Join us Tuesday\, October 29 as we celebrate integrity and business ethics at the 2013 BBB Torch Awards for Ethics. Previously called the Integrity Award\, the Torch Award for Ethics recognizes worthy companies that strive to go above and beyond in their dealings with customers\, employees\, vendors and their community. The Integrity Award is open to all for-profit businesses located within the Minnesota and North Dakota region. Winners will be announced live at the event.\n\n \n\nThis year's keynote speaker is David Horsager\, of St. Paul\, MN. David is an author\, entrepreneur\, professor and award-winning keynote speaker who researches and speaks on the bottom-line impact of trust. Lee Valsvik\, radio personality on KOOL108\, will be back for her third year as our event emcee!\n\n \n\nEarly bird tickets are available until October 8. Tickets are $65 per person or $45 for Accredited Businesses (lunch included). You can register online at: thefirstbbb.org/events.\n\n\n\nContact Mackenzie Kelley at 651-695-2482 or Mackenzie.kelley@thefirstbbb.org with any questions.
X-ALT-DESC;FMTTYPE=text/html:Join us Tuesday\, October 29 as we celebrate integrity and business ethics at the 2013 BBB Torch Awards for Ethics. Previously called the Integrity Award\, the Torch Award for Ethics recognizes worthy companies that strive to go above and beyond in their dealings with customers\, employees\, vendors and their community. The Integrity Award is open to all for-profit businesses located within the Minnesota and North Dakota region. Winners will be announced live at the event.<br />\n&nbsp\;<br />\nThis year&rsquo\;s keynote speaker is David Horsager\, of St. Paul\, MN. David is an author\, entrepreneur\, professor and award-winning keynote speaker who researches and speaks on the bottom-line impact of trust. Lee Valsvik\, radio personality on KOOL108\, will be back for her third year as our event emcee!<br />\n&nbsp\;<br />\nEarly bird tickets are available until October 8. Tickets are $65 per person or $45 for Accredited Businesses (lunch included). You can register online at: <a href="http://www.thefirstbbb.org/events"><span style="color: windowtext\;">thefirstbbb.org/events</span></a>.<br />\n<br />\nContact Mackenzie Kelley at 651-695-2482 or <a href="mailto:Mackenzie.kelley@thefirstbbb.org"><span style="color: windowtext\;">Mackenzie.kelley@thefirstbbb.org</span></a> with any questions.
LOCATION:Guthrie Theater 818 S 2nd St\, Minneapolis\, MN 55415
UID:e.411.666700
SEQUENCE:3
DTSTAMP:20260426T004409Z
URL:http://dev.setupsite.burnsvillechamber.com/events/details/better-business-bureau-torch-awards-for-ethics-10-29-2013-666700
END:VEVENT

END:VCALENDAR
