BEGIN:VCALENDAR
VERSION:2.0
PRODID:-//ChamberMaster//Event Calendar 2.0//EN
METHOD:PUBLISH
X-PUBLISHED-TTL:P3D
REFRESH-INTERVAL:P3D
CALSCALE:GREGORIAN
BEGIN:VEVENT
DTSTART:20140313T230000Z
DTEND:20140314T030000Z
X-MICROSOFT-CDO-ALLDAYEVENT:FALSE
SUMMARY:BITE of Burnsville
DESCRIPTION:Experience an evening of sampling fantastic appetizers\, entrees\, desserts\, and unique culinary masterpieces from over 20 of the area's restaurants\, as well as enjoy two live musical performers - Jeff Howe & Timothy Howe!  There will be a live auction\, silent auction with NEW interactive cellular bidding\, a full bar and great raffles - a wall of wine & wall of beer.  Come out and experience Burnsville restaurants while supporting the chamber!
X-ALT-DESC;FMTTYPE=text/html:Experience an evening of sampling fantastic appetizers\, entrees\, desserts\, and unique culinary masterpieces from over 20 of the area&#39\;s restaurants\, as well as enjoy two live musical performers - Jeff Howe &amp\; Timothy Howe!&nbsp\; There will be a live auction\, silent auction with NEW interactive cellular bidding\, a full bar and great raffles - a wall of wine &amp\; wall of beer.&nbsp\; Come out and experience Burnsville restaurants while supporting the chamber!
LOCATION:Burnsville Performing Arts Center 12600 Nicollet Ave Burnsville\, MN 55337
UID:e.411.666752
SEQUENCE:3
DTSTAMP:20260425T163536Z
URL:http://dev.setupsite.burnsvillechamber.com/events/details/bite-of-burnsville-03-13-2014-666752
END:VEVENT

END:VCALENDAR
