BEGIN:VCALENDAR
VERSION:2.0
PRODID:-//ChamberMaster//Event Calendar 2.0//EN
METHOD:PUBLISH
X-PUBLISHED-TTL:P3D
REFRESH-INTERVAL:P3D
CALSCALE:GREGORIAN
BEGIN:VEVENT
DTSTART:20140417T153000Z
DTEND:20140417T170000Z
X-MICROSOFT-CDO-ALLDAYEVENT:FALSE
SUMMARY:Boost Your Online Presence with Social Media
DESCRIPTION:Having a website is essential\, but it doesn't stop there. Learn how Facebook\, Twitter\, Google+ and LinkedIn can impact your business\, how to take advantage of these resources and what you need to know to do it yourself or to find someone qualified to do it for you. Sponsored in part by South Metro SCORE. Registration required. Thu\, April 17\, 10:30 am-noon
X-ALT-DESC;FMTTYPE=text/html:Having a website is essential\, but it doesn&#39\;t stop there. Learn how Facebook\, Twitter\, Google+ and LinkedIn can impact your business\, how to take advantage of these resources and what you need to know to do it yourself or to find someone qualified to do it for you. Sponsored in part by South Metro SCORE. Registration required. Thu\, April 17\, 10:30 am-noon
LOCATION:Dakota County Library-Galaxie 14955 Galaxie Ave. Apple Valley\, MN 55124
UID:e.411.666782
SEQUENCE:3
DTSTAMP:20260425T145052Z
URL:http://dev.setupsite.burnsvillechamber.com/events/details/boost-your-online-presence-with-social-media-04-17-2014-666782
END:VEVENT

END:VCALENDAR
