BEGIN:VCALENDAR
VERSION:2.0
PRODID:-//ChamberMaster//Event Calendar 2.0//EN
METHOD:PUBLISH
X-PUBLISHED-TTL:P3D
REFRESH-INTERVAL:P3D
CALSCALE:GREGORIAN
BEGIN:VEVENT
DTSTART:20140417T160000Z
DTEND:20140418T000000Z
X-MICROSOFT-CDO-ALLDAYEVENT:FALSE
SUMMARY:Bowls for BrainPower
DESCRIPTION:Join us for a simple meal of soup and bread\, and take home a beautiful hand-made pottery bowl as a reminder that some children in the Burnsville-Eagan-Savage School District face an empty bowl all too frequently. We ask for a freewill donation\, and all proceeds go to purchasing food for BrainPower in a BackPack\, ISD 191's youth service project that provides weekend food for elementary school children in ten schools. Bowls for BrainPower is a joint effort of the Burnsville High School Art Department and ISD 191's Community Education Youth Service Program.
X-ALT-DESC;FMTTYPE=text/html:Join us for a simple meal of soup and bread\, and take home a beautiful hand-made pottery bowl as a reminder that some children in the Burnsville-Eagan-Savage School District face an empty bowl all too frequently. We ask for a freewill donation\, and all proceeds go to purchasing food for BrainPower in a BackPack\, ISD 191&#39\;s youth service project that provides weekend food for elementary school children in ten schools. Bowls for BrainPower is a joint effort of the Burnsville High School Art Department and ISD 191&#39\;s Community Education Youth Service Program.
LOCATION:Campus Cup Cafe\, Burnsville High School Senior Campus Diamondhead Education Center\, Upper Level\, D Wing 200 W. Burnsville Parkway\, Burnsville\, MN 55337
UID:e.411.666765
SEQUENCE:3
DTSTAMP:20260425T144824Z
URL:http://dev.setupsite.burnsvillechamber.com/events/details/bowls-for-brainpower-04-17-2014-666765
END:VEVENT

END:VCALENDAR
