BEGIN:VCALENDAR
VERSION:2.0
PRODID:-//ChamberMaster//Event Calendar 2.0//EN
METHOD:PUBLISH
X-PUBLISHED-TTL:P3D
REFRESH-INTERVAL:P3D
CALSCALE:GREGORIAN
BEGIN:VEVENT
DTSTART:20130815T193000Z
DTEND:20130816T003000Z
X-MICROSOFT-CDO-ALLDAYEVENT:FALSE
SUMMARY:Burnsville Chamber Fall Fling
DESCRIPTION:Are you looking for a fun way to network with others? Join us at our annual Fall Fling event on Thursday\, August 15. Sign up as a single and we will pair you up with random shooters as a great way to network or reward your employees and clients by forming a team of four.
X-ALT-DESC;FMTTYPE=text/html:Are you looking for a fun way to network with others? Join us at our annual Fall Fling event on Thursday\, August 15. Sign up as a single and we will pair you up with random shooters as a great way to network or reward your employees and clients by forming a team of four.
LOCATION:Horse & Hunt Club 2920 220th Street East Prior Lake\, MN 55372
UID:e.411.666639
SEQUENCE:3
DTSTAMP:20260426T042805Z
URL:http://dev.setupsite.burnsvillechamber.com/events/details/burnsville-chamber-fall-fling-08-15-2013-666639
END:VEVENT

END:VCALENDAR
