BEGIN:VCALENDAR
VERSION:2.0
PRODID:-//ChamberMaster//Event Calendar 2.0//EN
METHOD:PUBLISH
X-PUBLISHED-TTL:P3D
REFRESH-INTERVAL:P3D
CALSCALE:GREGORIAN
BEGIN:VEVENT
DTSTART;VALUE=DATE:20140425
DTEND;VALUE=DATE:20140426
TRANSP:TRANSPARENT
X-MICROSOFT-CDO-ALLDAYEVENT:TRUE
SUMMARY:Burnsville Community-Wide Garage Sale - Registration Due
DESCRIPTION:Ready to do some spring cleaning (or collecting)? Find and sell treasures during Burnsville's Annual Community-Wide Garage Sale\; Friday and Saturday\, May 16-17. Homeowners may choose to participate on one or both dates. The City will provide a map listing all registered garage sales to help shoppers navigate the deals and bargains. All those who register their sales will be given a registration number and coordinating sign to place in their yard to identify their sale as a participant.
X-ALT-DESC;FMTTYPE=text/html:Ready to do some spring cleaning (or collecting)? Find and sell treasures during Burnsville&#39\;s Annual Community-Wide Garage Sale\; Friday and Saturday\, May 16-17. Homeowners may choose to participate on one or both dates. The City will provide a map listing all registered garage sales to help shoppers navigate the deals and bargains. All those who register their sales will be given a registration number and coordinating sign to place in their yard to identify their sale as a participant.
LOCATION:Register online a www.burnsville.org/garagesale or at Burnsville City Hall\, 100 Civic Center Parkway
UID:e.411.666787
SEQUENCE:3
DTSTAMP:20260425T145221Z
URL:http://dev.setupsite.burnsvillechamber.com/events/details/burnsville-community-wide-garage-sale-registration-due-04-25-2014-666787
END:VEVENT

END:VCALENDAR
