BEGIN:VCALENDAR
VERSION:2.0
PRODID:-//ChamberMaster//Event Calendar 2.0//EN
METHOD:PUBLISH
X-PUBLISHED-TTL:P3D
REFRESH-INTERVAL:P3D
CALSCALE:GREGORIAN
BEGIN:VEVENT
DTSTART:20141122T010000Z
DTEND:20141122T020000Z
X-MICROSOFT-CDO-ALLDAYEVENT:FALSE
SUMMARY:Burnsville Strong Community Remembrance
DESCRIPTION:Join fellow Burnsville community members for a short #BurnsvilleStrong Community Remembrance at Nicollet Commons Park.  Enjoy coffee\, cocoa and cookies while uniting as #BurnsvilleStrong!\n\n\n\nThe goal of Burnsville Strong is to unify\, strengthen and inspire our community as well as others.
X-ALT-DESC;FMTTYPE=text/html:Join fellow Burnsville community members for a short #BurnsvilleStrong Community Remembrance at Nicollet Commons Park.&nbsp\; Enjoy coffee\, cocoa and cookies while uniting as&nbsp\;#BurnsvilleStrong!<br />\n<br />\nThe goal of Burnsville Strong is to unify\, strengthen and inspire our community as well as others.
LOCATION:Nicollet Commons Park 12550 Nicollet Ave Burnsville\, MN 55337
UID:e.411.666890
SEQUENCE:3
DTSTAMP:20260425T023436Z
URL:http://dev.setupsite.burnsvillechamber.com/events/details/burnsville-strong-community-remembrance-11-21-2014-666890
END:VEVENT

END:VCALENDAR
