BEGIN:VCALENDAR
VERSION:2.0
PRODID:-//ChamberMaster//Event Calendar 2.0//EN
METHOD:PUBLISH
X-PUBLISHED-TTL:P3D
REFRESH-INTERVAL:P3D
CALSCALE:GREGORIAN
BEGIN:VEVENT
DTSTART:20140306T223000Z
DTEND:20140307T003000Z
X-MICROSOFT-CDO-ALLDAYEVENT:FALSE
SUMMARY:Business After Hours Event\, The Mediterranean Cruise
DESCRIPTION:Join us at The Mediterranean Cruise Caf  for the March Business After Hours event. Enjoy a delicious Mediterranean buffet while networking with other chamber members.
X-ALT-DESC;FMTTYPE=text/html:Join us at The Mediterranean Cruise Caf&eacute\; for the March Business After Hours event. Enjoy a delicious Mediterranean buffet while networking with other chamber members.
LOCATION:The Mediterranean Cruise Caf 12500 Nicollet Avenue Burnsville\, MN
UID:e.411.666733
SEQUENCE:3
DTSTAMP:20260425T165254Z
URL:http://dev.setupsite.burnsvillechamber.com/events/details/business-after-hours-event-the-mediterranean-cruise-03-06-2014-666733
END:VEVENT

END:VCALENDAR
