BEGIN:VCALENDAR
VERSION:2.0
PRODID:-//ChamberMaster//Event Calendar 2.0//EN
METHOD:PUBLISH
X-PUBLISHED-TTL:P3D
REFRESH-INTERVAL:P3D
CALSCALE:GREGORIAN
BEGIN:VEVENT
DTSTART:20200818T190000Z
DTEND:20200818T210000Z
X-MICROSOFT-CDO-ALLDAYEVENT:FALSE
SUMMARY:Business Financial Projections and Funding Resources Zoom Workshop
DESCRIPTION:Review sales and prices\, financial risks and rewards\, true startup costs\, ongoing operating expenses\, and setting benchmarks for tracking progress and organizing financial information. Discuss how to finance your business\, accounting\, banking relations and monthly preparation and review of financial statements.
X-ALT-DESC;FMTTYPE=text/html:Review sales and prices\, financial risks and rewards\, true startup costs\, ongoing operating expenses\, and setting benchmarks for tracking progress and organizing financial information. Discuss how to finance your business\, accounting\, banking relations and monthly preparation and review of financial statements.
LOCATION:Zoom
UID:e.411.668759
SEQUENCE:3
DTSTAMP:20260420T085316Z
URL:http://dev.setupsite.burnsvillechamber.com/events/details/business-financial-projections-and-funding-resources-zoom-workshop-668759
END:VEVENT

END:VCALENDAR
