BEGIN:VCALENDAR
VERSION:2.0
PRODID:-//ChamberMaster//Event Calendar 2.0//EN
METHOD:PUBLISH
X-PUBLISHED-TTL:P3D
REFRESH-INTERVAL:P3D
CALSCALE:GREGORIAN
BEGIN:VEVENT
DTSTART:20200728T190000Z
DTEND:20200728T210000Z
X-MICROSOFT-CDO-ALLDAYEVENT:FALSE
SUMMARY:Business Startup Basics Zoom Workshop
DESCRIPTION:Test a business idea and identify the key factors that influence startup success. Learn the skills needed when deciding to start a business\, advantages and disadvantages of owning a business\, the most profitable form for specific businesses. Presented by South Metro SCORE.
X-ALT-DESC;FMTTYPE=text/html:Test a business idea and identify the key factors that influence startup success. Learn the skills needed when deciding to start a business\, advantages and disadvantages of owning a business\, the most profitable form for specific businesses. Presented by South Metro SCORE.
LOCATION:Zoom
UID:e.411.668756
SEQUENCE:3
DTSTAMP:20260420T141644Z
URL:http://dev.setupsite.burnsvillechamber.com/events/details/business-startup-basics-zoom-workshop-668756
END:VEVENT

END:VCALENDAR
