BEGIN:VCALENDAR
VERSION:2.0
PRODID:-//ChamberMaster//Event Calendar 2.0//EN
METHOD:PUBLISH
X-PUBLISHED-TTL:P3D
REFRESH-INTERVAL:P3D
CALSCALE:GREGORIAN
BEGIN:VEVENT
DTSTART:20141016T133000Z
DTEND:20141016T143000Z
X-MICROSOFT-CDO-ALLDAYEVENT:FALSE
SUMMARY:Chamber 101 - Thursday\, October 16th\, 2014
DESCRIPTION:Whether you are a newer member of the chamber\, or you have been a member for years\, we would like to invite you to attend our Chamber 101 class to learn more about the many benefits of being a chamber member.  From this gathering you will walk away with a better understanding of how to receive the best value from your membership by learning:\n\n* More details about the chamber and its mission\n\n* How to access your account online and gain more exposure\n\n* Opportunities to market your business\n\n* How to sponsor events to keep your business visible\n\n* How you and your employees can engage\n\n* And more...\n\n\n\nSeating is limited\, so please RSVP a week in advance to Jina at 952.435.6000 or by email at jina@burnsvillechamber.com. \n\n\n\nWe hope to see you there!
X-ALT-DESC;FMTTYPE=text/html:Whether you are a newer member of the chamber\, or you have been a member for years\, we would like to invite you to attend our Chamber 101 class to learn more about the many benefits of being a chamber member.&nbsp\; From this gathering you will walk away with a better understanding of how to receive the best value from your membership by learning:<br />\n* More details about the chamber and its mission<br />\n* How to access your account online and gain more exposure<br />\n* Opportunities to market your business<br />\n* How to sponsor events to keep your business visible<br />\n* How you and your employees can engage<br />\n* And more...<br />\n<br />\nSeating is limited\, so please RSVP a week in advance to Jina at 952.435.6000 or by email at jina@burnsvillechamber.com.&nbsp\;<br />\n<br />\nWe hope to see you there!
LOCATION:Burnsville Chamber Office Building Ground Level Conference Room 350 West Burnsville Parkway Burnsville\, MN 55337
UID:e.411.666855
SEQUENCE:3
DTSTAMP:20260425T035057Z
URL:http://dev.setupsite.burnsvillechamber.com/events/details/chamber-101-thursday-october-16th-2014-10-16-2014-666855
END:VEVENT

END:VCALENDAR
