BEGIN:VCALENDAR
VERSION:2.0
PRODID:-//ChamberMaster//Event Calendar 2.0//EN
METHOD:PUBLISH
X-PUBLISHED-TTL:P3D
REFRESH-INTERVAL:P3D
CALSCALE:GREGORIAN
BEGIN:VEVENT
DTSTART:20140516T130000Z
DTEND:20140517T220000Z
X-MICROSOFT-CDO-ALLDAYEVENT:FALSE
SUMMARY:Charity Multi Family Gargage Sale
DESCRIPTION:Gargantuan Multi Family Garage and Bake Sale!\n\n636 Thoreau Drive\n\nBurnsville\, MN 55337\n\n\n\nFurniture\, clothing\, housewares\, sports equipment and much more! Come join the fun!\n\n\n\nWe will be serving hot dogs\, chips\, and drinks to support the\n\nINSports Foundation\, which provides disadvantaged youth with an opportunity to get involved in sports and live healthy lifestyles. http://www.insportsfoundation.org/
X-ALT-DESC;FMTTYPE=text/html:Gargantuan Multi Family Garage and Bake Sale!<br />\n636 Thoreau Drive<br />\nBurnsville\, MN 55337<br />\n<br />\nFurniture\, clothing\, housewares\, sports equipment and much more! Come join the fun!<br />\n<br />\nWe will be serving hot dogs\, chips\, and drinks to&nbsp\;support the<br />\nINSports Foundation\, which provides disadvantaged youth with an opportunity to get involved in sports and live healthy lifestyles. <a href="http://www.insportsfoundation.org/">http://www.insportsfoundation.org/</a>
LOCATION:636 Thoreau Drive Burnsville\, MN 55337
UID:e.411.666797
SEQUENCE:3
DTSTAMP:20260425T131544Z
URL:http://dev.setupsite.burnsvillechamber.com/events/details/charity-multi-family-gargage-sale-05-16-2014-666797
END:VEVENT

END:VCALENDAR
