BEGIN:VCALENDAR
VERSION:2.0
PRODID:-//ChamberMaster//Event Calendar 2.0//EN
METHOD:PUBLISH
X-PUBLISHED-TTL:P3D
REFRESH-INTERVAL:P3D
CALSCALE:GREGORIAN
BEGIN:VEVENT
DTSTART:20140622T210000Z
DTEND:20140623T010000Z
X-MICROSOFT-CDO-ALLDAYEVENT:FALSE
SUMMARY:Clear Cause Foundation's 3rd Annual Around The World Safely Benefit
DESCRIPTION:Enjoy cultural dancing\, ethnic foods\, beer\, award winning wine tastings\, wine wall\, mystery balloons\, music by Molly Dean\, and more!\n\n\n\nMeet our guests of honor: Senator Bonoff and Representative Selcer authors of SF 1975- the first bill to put the count in accountability\, mandated public safety reporting by programs offering credit to Minnesota's students in foreign countries.\n\n\n\nHelp us raise money to Protect Our Students Abroad! Their well-being is not well-protected.\n\n\n\nSPONSORSHIPS AVAILABLE:\n\nClearCause Foundation\n\n5775 Wayzata Blvd.\, #700\n\nSt. Louis Park\, MN 55416\n\n(952) 525-2255
X-ALT-DESC;FMTTYPE=text/html:Enjoy cultural dancing\, ethnic foods\, beer\, award winning wine tastings\, wine wall\, mystery balloons\, music by Molly Dean\, and more!<br />\n<br />\nMeet our guests of honor: Senator Bonoff and Representative Selcer authors of SF 1975- the first bill to put the count in accountability\, mandated public safety reporting by programs offering credit to Minnesota&#39\;s students in foreign countries.<br />\n<br />\nHelp us raise money to Protect Our Students Abroad! Their well-being is not well-protected.<br />\n<br />\nSPONSORSHIPS AVAILABLE:<br />\nClearCause Foundation<br />\n5775 Wayzata Blvd.\, #700<br />\nSt. Louis Park\, MN 55416<br />\n(952) 525-2255
LOCATION:Woodland Hills Winery in Delano\, Minnesota
UID:e.411.666799
SEQUENCE:3
DTSTAMP:20260425T110431Z
URL:http://dev.setupsite.burnsvillechamber.com/events/details/clear-cause-foundation-s-3rd-annual-around-the-world-safely-benefit-06-22-2014-666799
END:VEVENT

END:VCALENDAR
